View In:
ArcGIS JavaScript
ArcGIS Online map viewer
Google Earth
ArcMap
View Footprint In:
ArcGIS Online map viewer
Service Description: Image_services/Incheon_2022_25cm
Name: Image_services/Incheon_2022_25cm
Description: Image_services/Incheon_2022_25cm
Single Fused Map Cache: false
Extent:
XMin: 86420.81499999994
YMin: 481310.81499999994
XMax: 200049.06499999994
YMax: 572304.065
Spatial Reference:
PROJCS["WGS_1984_Transverse_Mercator",GEOGCS["GCS_WGS_1984",DATUM["D_WGS_1984",SPHEROID["WGS_1984",6378137.0,298.257223563]],PRIMEM["Greenwich",0.0],UNIT["Degree",0.0174532925199433]],PROJECTION["Transverse_Mercator"],PARAMETER["false_easting",200000.0],PARAMETER["false_northing",600000.0],PARAMETER["central_meridian",127.0],PARAMETER["scale_factor",1.0],PARAMETER["latitude_of_origin",38.0],UNIT["Meter",1.0]]
Initial Extent:
XMin: 86420.81499999994
YMin: 481310.81499999994
XMax: 200049.06499999994
YMax: 572304.065
Spatial Reference:
PROJCS["WGS_1984_Transverse_Mercator",GEOGCS["GCS_WGS_1984",DATUM["D_WGS_1984",SPHEROID["WGS_1984",6378137.0,298.257223563]],PRIMEM["Greenwich",0.0],UNIT["Degree",0.0174532925199433]],PROJECTION["Transverse_Mercator"],PARAMETER["false_easting",200000.0],PARAMETER["false_northing",600000.0],PARAMETER["central_meridian",127.0],PARAMETER["scale_factor",1.0],PARAMETER["latitude_of_origin",38.0],UNIT["Meter",1.0]]
Full Extent:
XMin: 86420.81499999994
YMin: 481310.81499999994
XMax: 200049.06499999994
YMax: 572304.065
Spatial Reference:
PROJCS["WGS_1984_Transverse_Mercator",GEOGCS["GCS_WGS_1984",DATUM["D_WGS_1984",SPHEROID["WGS_1984",6378137.0,298.257223563]],PRIMEM["Greenwich",0.0],UNIT["Degree",0.0174532925199433]],PROJECTION["Transverse_Mercator"],PARAMETER["false_easting",200000.0],PARAMETER["false_northing",600000.0],PARAMETER["central_meridian",127.0],PARAMETER["scale_factor",1.0],PARAMETER["latitude_of_origin",38.0],UNIT["Meter",1.0]]
Pixel Size X: 0.25
Pixel Size Y: 0.25
Band Count: 3
Pixel Type: U8
RasterFunction Infos: {"name":"None","description":"","help":""}
Mensuration Capabilities: Basic
Has Histograms: true
Has Colormap: false
Has Multi Dimensions : false
Rendering Rule:
Min Scale: 0
Max Scale: 0
Copyright Text:
Service Data Type: esriImageServiceDataTypeRGB
Min Values: 1, 1, 1
Max Values: 255, 255, 255
Mean Values: 82.988058949659, 87.373414231893, 88.253707013547
Standard Deviation Values: 38.813563161742, 35.146061534757, 32.833502351967
Object ID Field:
Fields:
None
Default Mosaic Method: Center
Allowed Mosaic Methods:
SortField:
SortValue: null
Mosaic Operator: First
Default Compression Quality: 75
Default Resampling Method: Bilinear
Max Record Count: null
Max Image Height: 30000
Max Image Width: 30000
Max Download Image Count: null
Max Mosaic Image Count: null
Allow Raster Function: true
Allow Compute TiePoints: false
Supports Statistics: false
Supports Advanced Queries: false
Use StandardizedQueries: true
Raster Type Infos:
Name: Raster Dataset
Description: Supports all ArcGIS Raster Datasets
Help:
Has Raster Attribute Table: false
Edit Fields Info: null
Ownership Based AccessControl For Rasters: null
Child Resources:
Info
Histograms
Key Properties
Legend
MultiDimensionalInfo
rasterFunctionInfos
Supported Operations:
Export Image
Identify
Measure
Compute Histograms
Compute Statistics Histograms
Get Samples
Compute Class Statistics