{
 "currentVersion": 10.51,
 "serviceDescription": "Image_services/Incheon_2022_25cm",
 "name": "Image_services/Incheon_2022_25cm",
 "description": "Image_services/Incheon_2022_25cm",
 "extent": {
  "xmin": 86420.81499999994,
  "ymin": 481310.81499999994,
  "xmax": 200049.06499999994,
  "ymax": 572304.065,
  "spatialReference": {
   "wkt": "PROJCS[\"WGS_1984_Transverse_Mercator\",GEOGCS[\"GCS_WGS_1984\",DATUM[\"D_WGS_1984\",SPHEROID[\"WGS_1984\",6378137.0,298.257223563]],PRIMEM[\"Greenwich\",0.0],UNIT[\"Degree\",0.0174532925199433]],PROJECTION[\"Transverse_Mercator\"],PARAMETER[\"false_easting\",200000.0],PARAMETER[\"false_northing\",600000.0],PARAMETER[\"central_meridian\",127.0],PARAMETER[\"scale_factor\",1.0],PARAMETER[\"latitude_of_origin\",38.0],UNIT[\"Meter\",1.0]]"
  }
 },
 "initialExtent": {
  "xmin": 86420.81499999994,
  "ymin": 481310.81499999994,
  "xmax": 200049.06499999994,
  "ymax": 572304.065,
  "spatialReference": {
   "wkt": "PROJCS[\"WGS_1984_Transverse_Mercator\",GEOGCS[\"GCS_WGS_1984\",DATUM[\"D_WGS_1984\",SPHEROID[\"WGS_1984\",6378137.0,298.257223563]],PRIMEM[\"Greenwich\",0.0],UNIT[\"Degree\",0.0174532925199433]],PROJECTION[\"Transverse_Mercator\"],PARAMETER[\"false_easting\",200000.0],PARAMETER[\"false_northing\",600000.0],PARAMETER[\"central_meridian\",127.0],PARAMETER[\"scale_factor\",1.0],PARAMETER[\"latitude_of_origin\",38.0],UNIT[\"Meter\",1.0]]"
  }
 },
 "fullExtent": {
  "xmin": 86420.81499999994,
  "ymin": 481310.81499999994,
  "xmax": 200049.06499999994,
  "ymax": 572304.065,
  "spatialReference": {
   "wkt": "PROJCS[\"WGS_1984_Transverse_Mercator\",GEOGCS[\"GCS_WGS_1984\",DATUM[\"D_WGS_1984\",SPHEROID[\"WGS_1984\",6378137.0,298.257223563]],PRIMEM[\"Greenwich\",0.0],UNIT[\"Degree\",0.0174532925199433]],PROJECTION[\"Transverse_Mercator\"],PARAMETER[\"false_easting\",200000.0],PARAMETER[\"false_northing\",600000.0],PARAMETER[\"central_meridian\",127.0],PARAMETER[\"scale_factor\",1.0],PARAMETER[\"latitude_of_origin\",38.0],UNIT[\"Meter\",1.0]]"
  }
 },
 "heightModelInfo": {
  "heightModel": "orthometric",
  "heightUnit": "meter"
 },
 "pixelSizeX": 0.25,
 "pixelSizeY": 0.25,
 "bandCount": 3,
 "pixelType": "U8",
 "minPixelSize": 0,
 "maxPixelSize": 0,
 "copyrightText": "",
 "serviceDataType": "esriImageServiceDataTypeRGB",
 "minValues": [
  1,
  1,
  1
 ],
 "maxValues": [
  255,
  255,
  255
 ],
 "meanValues": [
  82.988058949659,
  87.373414231893,
  88.253707013547
 ],
 "stdvValues": [
  38.813563161742,
  35.146061534757,
  32.833502351967
 ],
 "objectIdField": "",
 "fields": [],
 "capabilities": "Image,Mensuration,Metadata",
 "defaultMosaicMethod": "Center",
 "allowedMosaicMethods": "",
 "sortField": "",
 "sortValue": null,
 "mosaicOperator": "First",
 "defaultCompressionQuality": 75,
 "defaultResamplingMethod": "Bilinear",
 "maxImageHeight": 30000,
 "maxImageWidth": 30000,
 "allowRasterFunction": true,
 "rasterFunctionInfos": [
  {
   "name": "None",
   "description": "",
   "help": ""
  }
 ],
 "rasterTypeInfos": [
  {
   "name": "Raster Dataset",
   "description": "Supports all ArcGIS Raster Datasets",
   "help": ""
  }
 ],
 "mensurationCapabilities": "Basic",
 "hasHistograms": true,
 "hasColormap": false,
 "hasRasterAttributeTable": false,
 "minScale": 0,
 "maxScale": 0,
 "exportTilesAllowed": false,
 "hasMultidimensions": false,
 "supportsStatistics": false,
 "supportsAdvancedQueries": false,
 "editFieldsInfo": null,
 "ownershipBasedAccessControlForRasters": null,
 "allowComputeTiePoints": false,
 "useStandardizedQueries": true,
 "advancedQueryCapabilities": {
  "useStandardizedQueries": true,
  "supportsStatistics": false,
  "supportsOrderBy": false,
  "supportsDistinct": false,
  "supportsPagination": false
 },
 "spatialReference": {
  "wkt": "PROJCS[\"WGS_1984_Transverse_Mercator\",GEOGCS[\"GCS_WGS_1984\",DATUM[\"D_WGS_1984\",SPHEROID[\"WGS_1984\",6378137.0,298.257223563]],PRIMEM[\"Greenwich\",0.0],UNIT[\"Degree\",0.0174532925199433]],PROJECTION[\"Transverse_Mercator\"],PARAMETER[\"false_easting\",200000.0],PARAMETER[\"false_northing\",600000.0],PARAMETER[\"central_meridian\",127.0],PARAMETER[\"scale_factor\",1.0],PARAMETER[\"latitude_of_origin\",38.0],UNIT[\"Meter\",1.0]]"
 }
}
