View In:
ArcGIS JavaScript
ArcGIS Online map viewer
Google Earth
ArcMap
View Footprint In:
ArcGIS Online map viewer
Service Description: Image_services/Incheon_2020_10cm
Name: Image_services/Incheon_2020_10cm
Description: Image_services/Incheon_2020_10cm
Single Fused Map Cache: false
Extent:
XMin: 86691.7942092054
YMin: 481492.62093454064
XMax: 182232.09420920542
YMax: 567581.6209345406
Spatial Reference:
102082
(5186)
Initial Extent:
XMin: 86691.7942092054
YMin: 481492.62093454064
XMax: 182232.09420920542
YMax: 567581.6209345406
Spatial Reference:
102082
(5186)
Full Extent:
XMin: 86691.7942092054
YMin: 481492.62093454064
XMax: 182232.09420920542
YMax: 567581.6209345406
Spatial Reference:
102082
(5186)
Pixel Size X: 0.10000000000000002
Pixel Size Y: 0.1
Band Count: 3
Pixel Type: U8
RasterFunction Infos: {"name":"None","description":"","help":""}
Mensuration Capabilities:
Has Histograms: true
Has Colormap: false
Has Multi Dimensions : false
Rendering Rule:
Min Scale: 0
Max Scale: 0
Copyright Text:
Service Data Type: esriImageServiceDataTypeRGB
Min Values: 1, 1, 1
Max Values: 255, 255, 255
Mean Values: 76.430133703081, 85.940842358028, 74.579651419977
Standard Deviation Values: 45.382824166739, 37.65291637558, 33.450106913794
Object ID Field:
Fields:
None
Default Mosaic Method: Center
Allowed Mosaic Methods:
SortField:
SortValue: null
Mosaic Operator: First
Default Compression Quality: 75
Default Resampling Method: Bilinear
Max Record Count: null
Max Image Height: 300000
Max Image Width: 300000
Max Download Image Count: null
Max Mosaic Image Count: null
Allow Raster Function: true
Allow Compute TiePoints: false
Supports Statistics: false
Supports Advanced Queries: false
Use StandardizedQueries: true
Raster Type Infos:
Name: Raster Dataset
Description: Supports all ArcGIS Raster Datasets
Help:
Has Raster Attribute Table: false
Edit Fields Info: null
Ownership Based AccessControl For Rasters: null
Child Resources:
Info
Histograms
Key Properties
Legend
MultiDimensionalInfo
rasterFunctionInfos
Supported Operations:
Export Image
Identify
Compute Histograms
Compute Statistics Histograms
Get Samples
Compute Class Statistics