{
 "currentVersion": 10.51,
 "serviceDescription": "Image_services/Incheon_2020_10cm",
 "name": "Image_services/Incheon_2020_10cm",
 "description": "Image_services/Incheon_2020_10cm",
 "extent": {
  "xmin": 86691.7942092054,
  "ymin": 481492.62093454064,
  "xmax": 182232.09420920542,
  "ymax": 567581.6209345406,
  "spatialReference": {
   "wkid": 102082,
   "latestWkid": 5186
  }
 },
 "initialExtent": {
  "xmin": 86691.7942092054,
  "ymin": 481492.62093454064,
  "xmax": 182232.09420920542,
  "ymax": 567581.6209345406,
  "spatialReference": {
   "wkid": 102082,
   "latestWkid": 5186
  }
 },
 "fullExtent": {
  "xmin": 86691.7942092054,
  "ymin": 481492.62093454064,
  "xmax": 182232.09420920542,
  "ymax": 567581.6209345406,
  "spatialReference": {
   "wkid": 102082,
   "latestWkid": 5186
  }
 },
 "heightModelInfo": {
  "heightModel": "orthometric",
  "heightUnit": "meter"
 },
 "pixelSizeX": 0.10000000000000002,
 "pixelSizeY": 0.1,
 "bandCount": 3,
 "pixelType": "U8",
 "minPixelSize": 0,
 "maxPixelSize": 0,
 "copyrightText": "",
 "serviceDataType": "esriImageServiceDataTypeRGB",
 "minValues": [
  1,
  1,
  1
 ],
 "maxValues": [
  255,
  255,
  255
 ],
 "meanValues": [
  76.430133703081,
  85.940842358028,
  74.579651419977
 ],
 "stdvValues": [
  45.382824166739,
  37.65291637558,
  33.450106913794
 ],
 "objectIdField": "",
 "fields": [],
 "capabilities": "Image,Metadata",
 "defaultMosaicMethod": "Center",
 "allowedMosaicMethods": "",
 "sortField": "",
 "sortValue": null,
 "mosaicOperator": "First",
 "defaultCompressionQuality": 75,
 "defaultResamplingMethod": "Bilinear",
 "maxImageHeight": 300000,
 "maxImageWidth": 300000,
 "allowRasterFunction": true,
 "rasterFunctionInfos": [
  {
   "name": "None",
   "description": "",
   "help": ""
  }
 ],
 "rasterTypeInfos": [
  {
   "name": "Raster Dataset",
   "description": "Supports all ArcGIS Raster Datasets",
   "help": ""
  }
 ],
 "mensurationCapabilities": "",
 "hasHistograms": true,
 "hasColormap": false,
 "hasRasterAttributeTable": false,
 "minScale": 0,
 "maxScale": 0,
 "exportTilesAllowed": false,
 "hasMultidimensions": false,
 "supportsStatistics": false,
 "supportsAdvancedQueries": false,
 "editFieldsInfo": null,
 "ownershipBasedAccessControlForRasters": null,
 "allowComputeTiePoints": false,
 "useStandardizedQueries": true,
 "advancedQueryCapabilities": {
  "useStandardizedQueries": true,
  "supportsStatistics": false,
  "supportsOrderBy": false,
  "supportsDistinct": false,
  "supportsPagination": false
 },
 "spatialReference": {
  "wkid": 102082,
  "latestWkid": 5186
 }
}
